BEGIN:VCALENDAR
VERSION:2.0
PRODID:icalendar-ruby
CALSCALE:GREGORIAN
METHOD:PUBLISH
BEGIN:VEVENT
DTSTAMP:20260424T091922Z
UID:556623c8-1ec2-4230-83db-136e2a526361
DTSTART;VALUE=DATE:20230630
DTEND;VALUE=DATE:20230630
DESCRIPTION:Tri-City BMX
LOCATION:520 Burdeck St  Schenectady NY 12306 USA
SUMMARY:Local Race Single
URL:/site/bmx_races/509158
END:VEVENT
END:VCALENDAR
