BEGIN:VCALENDAR
VERSION:2.0
PRODID:icalendar-ruby
CALSCALE:GREGORIAN
METHOD:PUBLISH
BEGIN:VEVENT
DTSTAMP:20260424T202413Z
UID:7100afe7-49c4-4dab-9f31-a000d990e6f1
DTSTART;VALUE=DATE:20230204
DTEND;VALUE=DATE:20230204
DESCRIPTION:East Idaho Indoor BMX
LOCATION:1532 W 800 S  Pingree ID 83262 USA
SUMMARY:State Race Double
URL:/site/bmx_races/508868
END:VEVENT
END:VCALENDAR
