BEGIN:VCALENDAR
VERSION:2.0
PRODID:icalendar-ruby
CALSCALE:GREGORIAN
METHOD:PUBLISH
BEGIN:VEVENT
DTSTAMP:20260425T115233Z
UID:4dc5dc3b-7718-4b14-a2ad-c92db750bebc
DTSTART;VALUE=DATE:20231009
DTEND;VALUE=DATE:20231009
DESCRIPTION:Deseret Peak BMX 
LOCATION:2930 West Hwy 112  Tooele UT 84074 USA
SUMMARY:Local Race Single
URL:/site/bmx_races/508718
END:VEVENT
END:VCALENDAR
