BEGIN:VCALENDAR
VERSION:2.0
PRODID:icalendar-ruby
CALSCALE:GREGORIAN
METHOD:PUBLISH
BEGIN:VEVENT
DTSTAMP:20260424T220405Z
UID:f001a089-e938-4899-aea4-dbd93e5f227a
DTSTART;VALUE=DATE:20231019
DTEND;VALUE=DATE:20231019
DESCRIPTION:Steel Wheels Indoor BMX
LOCATION:709 N Hobart Rd  Hobart IN 46350 USA
SUMMARY:Local Race Single
URL:/site/bmx_races/508606
END:VEVENT
END:VCALENDAR
