BEGIN:VCALENDAR
VERSION:2.0
PRODID:icalendar-ruby
CALSCALE:GREGORIAN
METHOD:PUBLISH
BEGIN:VEVENT
DTSTAMP:20260424T094842Z
UID:2748a9f7-2998-4196-9da2-cb101497c6b0
DTSTART;VALUE=DATE:20231005
DTEND;VALUE=DATE:20231005
DESCRIPTION:Steel Wheels Indoor BMX
LOCATION:709 N Hobart Rd  Hobart IN 46350 USA
SUMMARY:Local Race Single
URL:/site/bmx_races/508600
END:VEVENT
END:VCALENDAR
