BEGIN:VCALENDAR
VERSION:2.0
PRODID:icalendar-ruby
CALSCALE:GREGORIAN
METHOD:PUBLISH
BEGIN:VEVENT
DTSTAMP:20260425T215456Z
UID:1834ab22-954b-4771-afbc-8c8f6fc7c964
DTSTART;VALUE=DATE:20230316
DTEND;VALUE=DATE:20230316
DESCRIPTION:Steel Wheels Indoor BMX
LOCATION:709 N Hobart Rd  Hobart IN 46350 USA
SUMMARY:Local Race Single
URL:/site/bmx_races/508579
END:VEVENT
END:VCALENDAR
