BEGIN:VCALENDAR
VERSION:2.0
PRODID:icalendar-ruby
CALSCALE:GREGORIAN
METHOD:PUBLISH
BEGIN:VEVENT
DTSTAMP:20260425T231548Z
UID:570bdf41-eeb1-4d50-bf2e-a1cbb7e2a439
DTSTART;VALUE=DATE:20230907
DTEND;VALUE=DATE:20230907
DESCRIPTION:Imagination Glen BMX
LOCATION:2190 N State Rd 149  Portage IN 46304 USA
SUMMARY:Local Race Single
URL:/site/bmx_races/508530
END:VEVENT
END:VCALENDAR
