BEGIN:VCALENDAR
VERSION:2.0
PRODID:icalendar-ruby
CALSCALE:GREGORIAN
METHOD:PUBLISH
BEGIN:VEVENT
DTSTAMP:20260425T105610Z
UID:557df8ed-d2b9-49b6-92a1-8e64eac22def
DTSTART;VALUE=DATE:20230603
DTEND;VALUE=DATE:20230603
DESCRIPTION:The Hill BMX
LOCATION:709 Sports Way  Elgin IL 60123 USA
SUMMARY:Local Race Single
URL:/site/bmx_races/507754
END:VEVENT
END:VCALENDAR
