BEGIN:VCALENDAR
VERSION:2.0
PRODID:icalendar-ruby
CALSCALE:GREGORIAN
METHOD:PUBLISH
BEGIN:VEVENT
DTSTAMP:20260424T115234Z
UID:18a1e6f1-73d0-450d-a69c-4e28618802a2
DTSTART;VALUE=DATE:20220913
DTEND;VALUE=DATE:20220913
DESCRIPTION:Music City BMX Association
LOCATION:2901 Bell Road  Nashville TN 37217 USA
SUMMARY:Local Race Single
URL:/site/bmx_races/507733
END:VEVENT
END:VCALENDAR
