BEGIN:VCALENDAR
VERSION:2.0
PRODID:icalendar-ruby
CALSCALE:GREGORIAN
METHOD:PUBLISH
BEGIN:VEVENT
DTSTAMP:20260425T003916Z
UID:25f6ca2e-56e5-46c4-af4e-3a74de7575d6
DTSTART;VALUE=DATE:20230204
DTEND;VALUE=DATE:20230204
DESCRIPTION:Desoto BMX
LOCATION:Grimes Park 500 E. Centre Park Blvd Desoto TX 75115 USA
SUMMARY:Local Race Single
URL:/site/bmx_races/507685
END:VEVENT
END:VCALENDAR
