BEGIN:VCALENDAR
VERSION:2.0
PRODID:icalendar-ruby
CALSCALE:GREGORIAN
METHOD:PUBLISH
BEGIN:VEVENT
DTSTAMP:20260424T184748Z
UID:11011102-7761-4eff-a762-2add0da35ef7
DTSTART;VALUE=DATE:20230616
DTEND;VALUE=DATE:20230616
DESCRIPTION:Desoto BMX
LOCATION:Grimes Park 500 E. Centre Park Blvd Desoto TX 75115 USA
SUMMARY:Local Race Single
URL:/site/bmx_races/507654
END:VEVENT
END:VCALENDAR
