BEGIN:VCALENDAR
VERSION:2.0
PRODID:icalendar-ruby
CALSCALE:GREGORIAN
METHOD:PUBLISH
BEGIN:VEVENT
DTSTAMP:20260424T234212Z
UID:75b71d77-11ad-448c-8eeb-704ba838c641
DTSTART;VALUE=DATE:20221203
DTEND;VALUE=DATE:20221203
DESCRIPTION:Oldsmar BMX Supercross
LOCATION:Oldsmar Sports Complex 3120 Tampa Road Oldsmar FL 34677 USA
SUMMARY:Local Race Single
URL:/site/bmx_races/507354
END:VEVENT
END:VCALENDAR
