BEGIN:VCALENDAR
VERSION:2.0
PRODID:icalendar-ruby
CALSCALE:GREGORIAN
METHOD:PUBLISH
BEGIN:VEVENT
DTSTAMP:20260424T190154Z
UID:9f2ad354-ee36-4c88-8a98-7efbdb8181d4
DTSTART;VALUE=DATE:20221028
DTEND;VALUE=DATE:20221028
DESCRIPTION:Bellflower BMX
LOCATION:9030 Somerset Blvd  Bellflower CA 90706 USA
SUMMARY:Warnicke Double
URL:/site/bmx_races/507315
END:VEVENT
END:VCALENDAR
