BEGIN:VCALENDAR
VERSION:2.0
PRODID:icalendar-ruby
CALSCALE:GREGORIAN
METHOD:PUBLISH
BEGIN:VEVENT
DTSTAMP:20260424T234238Z
UID:26f63bba-aab1-4463-8ed3-9dd0dd2c0021
DTSTART;VALUE=DATE:20220907
DTEND;VALUE=DATE:20220907
DESCRIPTION:Nanaimo BMX
LOCATION:2001 Labieux Road  Nanaimo BC V9T 3K7 CAN
SUMMARY:Local Race Single
URL:/site/bmx_races/506998
END:VEVENT
END:VCALENDAR
