BEGIN:VCALENDAR
VERSION:2.0
PRODID:icalendar-ruby
CALSCALE:GREGORIAN
METHOD:PUBLISH
BEGIN:VEVENT
DTSTAMP:20260424T194701Z
UID:699ad62e-116d-4cf9-9027-0ccec174643f
DTSTART;VALUE=DATE:20220901
DTEND;VALUE=DATE:20220901
DESCRIPTION:Emerald Valley BMX
LOCATION:2715 Leo Harris Pkwy  Eugene OR 97402 USA
SUMMARY:Local Race Single
URL:/site/bmx_races/506942
END:VEVENT
END:VCALENDAR
