BEGIN:VCALENDAR
VERSION:2.0
PRODID:icalendar-ruby
CALSCALE:GREGORIAN
METHOD:PUBLISH
BEGIN:VEVENT
DTSTAMP:20260425T115228Z
UID:a27b785b-8fe0-4b04-bbae-cfbe79557012
DTSTART;VALUE=DATE:20221029
DTEND;VALUE=DATE:20221029
DESCRIPTION:Westmoreland BMX
LOCATION:200 Park Road  Apollo PA 15613 USA
SUMMARY:Earned Double
URL:/site/bmx_races/506715
END:VEVENT
END:VCALENDAR
