BEGIN:VCALENDAR
VERSION:2.0
PRODID:icalendar-ruby
CALSCALE:GREGORIAN
METHOD:PUBLISH
BEGIN:VEVENT
DTSTAMP:20260425T122236Z
UID:7cc3a2cc-d5d3-4202-b995-5592614a1aff
DTSTART;VALUE=DATE:20220903
DTEND;VALUE=DATE:20220903
DESCRIPTION:Grand Valley BMX
LOCATION:2785 U.S. Highway 50  Grand Junction CO 81503 USA
SUMMARY:Race for Life Single
URL:/site/bmx_races/506493
END:VEVENT
END:VCALENDAR
