BEGIN:VCALENDAR
VERSION:2.0
PRODID:icalendar-ruby
CALSCALE:GREGORIAN
METHOD:PUBLISH
BEGIN:VEVENT
DTSTAMP:20260424T202401Z
UID:10a7347a-448b-4542-a429-7813717462b5
DTSTART;VALUE=DATE:20220910
DTEND;VALUE=DATE:20220910
DESCRIPTION:Pearland BMX
LOCATION:5657 Morning Dove Ln  Alvin TX 77511 USA
SUMMARY:Race for Life Single
URL:/site/bmx_races/506488
END:VEVENT
END:VCALENDAR
