BEGIN:VCALENDAR
VERSION:2.0
PRODID:icalendar-ruby
CALSCALE:GREGORIAN
METHOD:PUBLISH
BEGIN:VEVENT
DTSTAMP:20260424T190027Z
UID:12d6bb61-6efe-4b55-9801-0931e8b9e7ca
DTSTART;VALUE=DATE:20220803
DTEND;VALUE=DATE:20220803
DESCRIPTION:Virgin BMX
LOCATION:425 N. Kolob Rd  Virgin UT 84779 USA
SUMMARY:Local Race Single
URL:/site/bmx_races/506474
END:VEVENT
END:VCALENDAR
