BEGIN:VCALENDAR
VERSION:2.0
PRODID:icalendar-ruby
CALSCALE:GREGORIAN
METHOD:PUBLISH
BEGIN:VEVENT
DTSTAMP:20260424T141741Z
UID:ae6a60e0-489e-49d4-bb99-e45bec53512e
DTSTART;VALUE=DATE:20221023
DTEND;VALUE=DATE:20221023
DESCRIPTION:Pineview Park BMX
LOCATION:6540 Saukview Dr  St. Cloud MN 56303 USA
SUMMARY:Local Race Single
URL:/site/bmx_races/506463
END:VEVENT
END:VCALENDAR
