BEGIN:VCALENDAR
VERSION:2.0
PRODID:icalendar-ruby
CALSCALE:GREGORIAN
METHOD:PUBLISH
BEGIN:VEVENT
DTSTAMP:20260424T152347Z
UID:a6822189-eaa7-4d68-9b70-4f9cf5de66d8
DTSTART;VALUE=DATE:20221002
DTEND;VALUE=DATE:20221002
DESCRIPTION:Pineview Park BMX
LOCATION:6540 Saukview Dr  St. Cloud MN 56303 USA
SUMMARY:Local Race Single
URL:/site/bmx_races/506460
END:VEVENT
END:VCALENDAR
