BEGIN:VCALENDAR
VERSION:2.0
PRODID:icalendar-ruby
CALSCALE:GREGORIAN
METHOD:PUBLISH
BEGIN:VEVENT
DTSTAMP:20260424T221857Z
UID:dade883e-1f83-47bd-9a72-3309f108bbd3
DTSTART;VALUE=DATE:20221112
DTEND;VALUE=DATE:20221112
DESCRIPTION:EHT BMX
LOCATION:Veterans Memorial Park Ocean Heights Ave Egg Harbor Township NJ 08
 234 USA
SUMMARY:Earned Double
URL:/site/bmx_races/506444
END:VEVENT
END:VCALENDAR
