BEGIN:VCALENDAR
VERSION:2.0
PRODID:icalendar-ruby
CALSCALE:GREGORIAN
METHOD:PUBLISH
BEGIN:VEVENT
DTSTAMP:20260424T133600Z
UID:7420ff43-b08c-4862-951a-c0e7637e21ba
DTSTART;VALUE=DATE:20220920
DTEND;VALUE=DATE:20220920
DESCRIPTION:Lakes Area BMX
LOCATION:10415 Town Hall Street  Brainerd MN 56401 USA
SUMMARY:Local Race Single
URL:/site/bmx_races/506215
END:VEVENT
END:VCALENDAR
