BEGIN:VCALENDAR
VERSION:2.0
PRODID:icalendar-ruby
CALSCALE:GREGORIAN
METHOD:PUBLISH
BEGIN:VEVENT
DTSTAMP:20260425T214200Z
UID:0ff708c6-76e5-47f3-8f85-b21a407d52d1
DTSTART;VALUE=DATE:20221003
DTEND;VALUE=DATE:20221003
DESCRIPTION:Waterford Oaks BMX
LOCATION:1702 Scott Lake Rd  Waterford MI 48328 USA
SUMMARY:Local Race Single
URL:/site/bmx_races/506128
END:VEVENT
END:VCALENDAR
