BEGIN:VCALENDAR
VERSION:2.0
PRODID:icalendar-ruby
CALSCALE:GREGORIAN
METHOD:PUBLISH
BEGIN:VEVENT
DTSTAMP:20260424T131348Z
UID:b0bf7b16-eaa1-4b13-a49e-11240573f774
DTSTART;VALUE=DATE:20220628
DTEND;VALUE=DATE:20220628
DESCRIPTION:Oceanside BMX
LOCATION:354 Park Rd  Qualicum Beach BC V9Y3R5 CAN
SUMMARY:Local Race Single
URL:/site/bmx_races/505874
END:VEVENT
END:VCALENDAR
