BEGIN:VCALENDAR
VERSION:2.0
PRODID:icalendar-ruby
CALSCALE:GREGORIAN
METHOD:PUBLISH
BEGIN:VEVENT
DTSTAMP:20260424T115801Z
UID:1ed4e874-5fdf-49a3-b5b9-8598e317c664
DTSTART;VALUE=DATE:20220804
DTEND;VALUE=DATE:20220804
DESCRIPTION:Ed Fountain Park BMX Raceway
LOCATION:1400 N Decatur Blvd  Las Vegas NV 89108 USA
SUMMARY:Local Race Single
URL:/site/bmx_races/505867
END:VEVENT
END:VCALENDAR
