BEGIN:VCALENDAR
VERSION:2.0
PRODID:icalendar-ruby
CALSCALE:GREGORIAN
METHOD:PUBLISH
BEGIN:VEVENT
DTSTAMP:20260424T190317Z
UID:4dea89a8-d3c3-4578-8c40-b6b0805ee224
DTSTART;VALUE=DATE:20220812
DTEND;VALUE=DATE:20220812
DESCRIPTION:Crow River BMX
LOCATION:3150 Lander Avenue North   St. Michael MN 55376 - 9633  USA
SUMMARY:Earned Double
URL:/site/bmx_races/505815
END:VEVENT
END:VCALENDAR
