BEGIN:VCALENDAR
VERSION:2.0
PRODID:icalendar-ruby
CALSCALE:GREGORIAN
METHOD:PUBLISH
BEGIN:VEVENT
DTSTAMP:20260424T232550Z
UID:3813c9b5-4821-4132-8aeb-626529a3b510
DTSTART;VALUE=DATE:20220820
DTEND;VALUE=DATE:20220820
DESCRIPTION:Daytona BMX
LOCATION:1670 Strickland Range Rd  Holly Hill FL 32117 USA
SUMMARY:Local Race Single
URL:/site/bmx_races/505757
END:VEVENT
END:VCALENDAR
