BEGIN:VCALENDAR
VERSION:2.0
PRODID:icalendar-ruby
CALSCALE:GREGORIAN
METHOD:PUBLISH
BEGIN:VEVENT
DTSTAMP:20260425T131139Z
UID:9f5b94b3-f142-4d30-a8de-e18e84dbd205
DTSTART;VALUE=DATE:20220726
DTEND;VALUE=DATE:20220726
DESCRIPTION:Cherry Hill Park BMX
LOCATION:1727 N 15th St  Coeur D`Alene ID 83814 USA
SUMMARY:Local Race Single
URL:/site/bmx_races/505361
END:VEVENT
END:VCALENDAR
