BEGIN:VCALENDAR
VERSION:2.0
PRODID:icalendar-ruby
CALSCALE:GREGORIAN
METHOD:PUBLISH
BEGIN:VEVENT
DTSTAMP:20260425T142013Z
UID:f1ad7a41-5e70-475a-b4af-cb809e21c287
DTSTART;VALUE=DATE:20220911
DTEND;VALUE=DATE:20220911
DESCRIPTION:Spreckels Park BMX
LOCATION:941 Spreckels Ave  Manteca CA 95336 USA
SUMMARY:Local Race Single
URL:/site/bmx_races/505335
END:VEVENT
END:VCALENDAR
