BEGIN:VCALENDAR
VERSION:2.0
PRODID:icalendar-ruby
CALSCALE:GREGORIAN
METHOD:PUBLISH
BEGIN:VEVENT
DTSTAMP:20260424T154705Z
UID:198490cf-4c2d-4d69-8495-0424fd9f66c9
DTSTART;VALUE=DATE:20220910
DTEND;VALUE=DATE:20220910
DESCRIPTION:Spreckels Park BMX
LOCATION:941 Spreckels Ave  Manteca CA 95336 USA
SUMMARY:Frogtown Classic BMX Days - Calaveras County Fairgrounds
URL:/site/bmx_races/505333
END:VEVENT
END:VCALENDAR
