BEGIN:VCALENDAR
VERSION:2.0
PRODID:icalendar-ruby
CALSCALE:GREGORIAN
METHOD:PUBLISH
BEGIN:VEVENT
DTSTAMP:20260424T131345Z
UID:eb56375e-394e-4da8-95f2-5b59be501a09
DTSTART;VALUE=DATE:20220711
DTEND;VALUE=DATE:20220711
DESCRIPTION:Cactus Park BMX
LOCATION:10610 Ashwood St  Lakeside CA 92040 USA
SUMMARY:Local Race Single
URL:/site/bmx_races/505316
END:VEVENT
END:VCALENDAR
