BEGIN:VCALENDAR
VERSION:2.0
PRODID:icalendar-ruby
CALSCALE:GREGORIAN
METHOD:PUBLISH
BEGIN:VEVENT
DTSTAMP:20260424T234959Z
UID:26c9b4c7-8f04-47f3-88cc-1a55b5431077
DTSTART;VALUE=DATE:20220706
DTEND;VALUE=DATE:20220706
DESCRIPTION:Virgin BMX
LOCATION:425 N. Kolob Rd  Virgin UT 84779 USA
SUMMARY:Local Race Single
URL:/site/bmx_races/505179
END:VEVENT
END:VCALENDAR
