BEGIN:VCALENDAR
VERSION:2.0
PRODID:icalendar-ruby
CALSCALE:GREGORIAN
METHOD:PUBLISH
BEGIN:VEVENT
DTSTAMP:20260426T003230Z
UID:40b07a8c-9bfe-4a0c-a550-a125dca38d9d
DTSTART;VALUE=DATE:20220715
DTEND;VALUE=DATE:20220715
DESCRIPTION:East Moline BMX
LOCATION:1930 Avenue Of The Cities  East Moline IL 61241 USA
SUMMARY:Local Race Single
URL:/site/bmx_races/504906
END:VEVENT
END:VCALENDAR
