BEGIN:VCALENDAR
VERSION:2.0
PRODID:icalendar-ruby
CALSCALE:GREGORIAN
METHOD:PUBLISH
BEGIN:VEVENT
DTSTAMP:20260424T154635Z
UID:da4c3fb0-af38-49db-9805-5d938ba2957a
DTSTART;VALUE=DATE:20220625
DTEND;VALUE=DATE:20220625
DESCRIPTION:Reno Battleborn BMX
LOCATION:Sun Valley Gid Community Park 115 W 6th Ave Sun Valley NV 89433 US
 A
SUMMARY:Local Race Single
URL:/site/bmx_races/504813
END:VEVENT
END:VCALENDAR
