BEGIN:VCALENDAR
VERSION:2.0
PRODID:icalendar-ruby
CALSCALE:GREGORIAN
METHOD:PUBLISH
BEGIN:VEVENT
DTSTAMP:20260424T191613Z
UID:8c052aaa-48a4-4dc0-a2f7-62fb0c100858
DTSTART;VALUE=DATE:20220827
DTEND;VALUE=DATE:20220827
DESCRIPTION:North Bay BMX
LOCATION:3291 Streblow Dr  Napa CA 94558 USA
SUMMARY:Local Race Single
URL:/site/bmx_races/504668
END:VEVENT
END:VCALENDAR
