BEGIN:VCALENDAR
VERSION:2.0
PRODID:icalendar-ruby
CALSCALE:GREGORIAN
METHOD:PUBLISH
BEGIN:VEVENT
DTSTAMP:20260425T025508Z
UID:b8aa2559-5009-46b9-96f9-5e4ff9e351d6
DTSTART;VALUE=DATE:20220624
DTEND;VALUE=DATE:20220624
DESCRIPTION:Columbus BMX
LOCATION:876 Spears St.  Columbus IN 47201 USA
SUMMARY:Local Race Single
URL:/site/bmx_races/504597
END:VEVENT
END:VCALENDAR
