BEGIN:VCALENDAR
VERSION:2.0
PRODID:icalendar-ruby
CALSCALE:GREGORIAN
METHOD:PUBLISH
BEGIN:VEVENT
DTSTAMP:20260425T142000Z
UID:62b421cc-fbd1-4fa6-967b-a63a000913a3
DTSTART;VALUE=DATE:20230721
DTEND;VALUE=DATE:20230721
DESCRIPTION:Boulder BMX\, Inc
LOCATION:1799 Commons Way  Boulder City NV 89005 USA
SUMMARY:Local Race Single
URL:/site/bmx_races/504543
END:VEVENT
END:VCALENDAR
