BEGIN:VCALENDAR
VERSION:2.0
PRODID:icalendar-ruby
CALSCALE:GREGORIAN
METHOD:PUBLISH
BEGIN:VEVENT
DTSTAMP:20260424T094915Z
UID:735c0763-a6e8-4230-9a73-19ee12be16f2
DTSTART;VALUE=DATE:20220703
DTEND;VALUE=DATE:20220703
DESCRIPTION:Show Low BMX
LOCATION:1001 E Mills  Show Low AZ 85901 USA
SUMMARY:Local Race Single
URL:/site/bmx_races/504453
END:VEVENT
END:VCALENDAR
