BEGIN:VCALENDAR
VERSION:2.0
PRODID:icalendar-ruby
CALSCALE:GREGORIAN
METHOD:PUBLISH
BEGIN:VEVENT
DTSTAMP:20260424T071014Z
UID:5a43435b-b247-4b3d-b849-e542ae98ea39
DTSTART;VALUE=DATE:20220703
DTEND;VALUE=DATE:20220703
DESCRIPTION:Sand Springs BMX
LOCATION:2600 S River City Park Rd  Sand Springs OK 74063 USA
SUMMARY:Warnicke Double
URL:/site/bmx_races/504420
END:VEVENT
END:VCALENDAR
