BEGIN:VCALENDAR
VERSION:2.0
PRODID:icalendar-ruby
CALSCALE:GREGORIAN
METHOD:PUBLISH
BEGIN:VEVENT
DTSTAMP:20260425T021645Z
UID:17c8a158-975a-4324-8222-6fa60e562f26
DTSTART;VALUE=DATE:20220710
DTEND;VALUE=DATE:20220710
DESCRIPTION:NWA BMX
LOCATION:801 Mc Clure Ave  Lowell AR 72745 USA
SUMMARY:Local Race Single
URL:/site/bmx_races/504284
END:VEVENT
END:VCALENDAR
