BEGIN:VCALENDAR
VERSION:2.0
PRODID:icalendar-ruby
CALSCALE:GREGORIAN
METHOD:PUBLISH
BEGIN:VEVENT
DTSTAMP:20260424T074629Z
UID:22d4d3d0-3b56-4f37-8e46-a3a46206f6da
DTSTART;VALUE=DATE:20231021
DTEND;VALUE=DATE:20231021
DESCRIPTION:Peachtree BMX
LOCATION:195 Mc Intosh Trail  Peachtree City GA 30269 USA
SUMMARY:Local Race Single
URL:/site/bmx_races/504277
END:VEVENT
END:VCALENDAR
