BEGIN:VCALENDAR
VERSION:2.0
PRODID:icalendar-ruby
CALSCALE:GREGORIAN
METHOD:PUBLISH
BEGIN:VEVENT
DTSTAMP:20260424T094842Z
UID:e5bd244e-0cd3-46b6-a29e-ce30961f3303
DTSTART;VALUE=DATE:20220617
DTEND;VALUE=DATE:20220617
DESCRIPTION:Moses Lake BMX
LOCATION:610 Yakima Ave  Moses Lake WA 98837 USA
SUMMARY:Local Race Single
URL:/site/bmx_races/504021
END:VEVENT
END:VCALENDAR
