BEGIN:VCALENDAR
VERSION:2.0
PRODID:icalendar-ruby
CALSCALE:GREGORIAN
METHOD:PUBLISH
BEGIN:VEVENT
DTSTAMP:20260426T003226Z
UID:27984e99-8fc1-4909-9fe0-091341d3c93b
DTSTART;VALUE=DATE:20220621
DTEND;VALUE=DATE:20220621
DESCRIPTION:Chehalem Valley BMX
LOCATION:1201 Blaine St  Newberg OR 97132 USA
SUMMARY:Local Race Single
URL:/site/bmx_races/503967
END:VEVENT
END:VCALENDAR
