BEGIN:VCALENDAR
VERSION:2.0
PRODID:icalendar-ruby
CALSCALE:GREGORIAN
METHOD:PUBLISH
BEGIN:VEVENT
DTSTAMP:20260424T121238Z
UID:8a85dfd5-11cc-4628-a287-ef0263fabea5
DTSTART;VALUE=DATE:20220808
DTEND;VALUE=DATE:20220808
DESCRIPTION:Pineview Park BMX
LOCATION:6540 Saukview Dr  St. Cloud MN 56303 USA
SUMMARY:Local Race Single
URL:/site/bmx_races/503536
END:VEVENT
END:VCALENDAR
