BEGIN:VCALENDAR
VERSION:2.0
PRODID:icalendar-ruby
CALSCALE:GREGORIAN
METHOD:PUBLISH
BEGIN:VEVENT
DTSTAMP:20260424T074626Z
UID:a1586f35-d1bb-4a20-bc47-e2ccb5b10e0b
DTSTART;VALUE=DATE:20220813
DTEND;VALUE=DATE:20220813
DESCRIPTION:Winchester BMX
LOCATION:1001 E. Cork Street  Winchester VA 22601 USA
SUMMARY:Local Race Single
URL:/site/bmx_races/503493
END:VEVENT
END:VCALENDAR
