BEGIN:VCALENDAR
VERSION:2.0
PRODID:icalendar-ruby
CALSCALE:GREGORIAN
METHOD:PUBLISH
BEGIN:VEVENT
DTSTAMP:20260424T212613Z
UID:71025ccc-d2c7-450d-802c-d818937dc618
DTSTART;VALUE=DATE:20220826
DTEND;VALUE=DATE:20220826
DESCRIPTION:Hamilton BMX
LOCATION:7 Joe Nuxhall Way  Hamilton OH 45015 USA
SUMMARY:Local Race Single
URL:/site/bmx_races/503333
END:VEVENT
END:VCALENDAR
