BEGIN:VCALENDAR
VERSION:2.0
PRODID:icalendar-ruby
CALSCALE:GREGORIAN
METHOD:PUBLISH
BEGIN:VEVENT
DTSTAMP:20260424T133535Z
UID:cb0a57d5-f3f5-4e79-81ef-9d7d46c84c14
DTSTART;VALUE=DATE:20220812
DTEND;VALUE=DATE:20220812
DESCRIPTION:Chandler BMX
LOCATION:298 S Mc Queen Rd  Chandler AZ 85225 USA
SUMMARY:Local Race Single
URL:/site/bmx_races/502591
END:VEVENT
END:VCALENDAR
