BEGIN:VCALENDAR
VERSION:2.0
PRODID:icalendar-ruby
CALSCALE:GREGORIAN
METHOD:PUBLISH
BEGIN:VEVENT
DTSTAMP:20260424T235008Z
UID:f9a3ffd0-5e81-4186-a89e-9c23331fcaef
DTSTART;VALUE=DATE:20220518
DTEND;VALUE=DATE:20220518
DESCRIPTION:Rogue Valley BMX
LOCATION:Highland Drive  Medford OR 97504 USA
SUMMARY:Local Race Single
URL:/site/bmx_races/502394
END:VEVENT
END:VCALENDAR
