BEGIN:VCALENDAR
VERSION:2.0
PRODID:icalendar-ruby
CALSCALE:GREGORIAN
METHOD:PUBLISH
BEGIN:VEVENT
DTSTAMP:20260424T144053Z
UID:88d61754-c714-493d-9137-e7114c858766
DTSTART;VALUE=DATE:20220604
DTEND;VALUE=DATE:20220604
DESCRIPTION:Horseheads BMX
LOCATION:190 Wygant Rd  Horseheads NY 14845 USA
SUMMARY:BMX Registration Day Single
URL:/site/bmx_races/502359
END:VEVENT
END:VCALENDAR
